BEGIN:VCALENDAR
VERSION:2.0
PRODID:-//Akad - ECPv6.15.20//NONSGML v1.0//EN
CALSCALE:GREGORIAN
METHOD:PUBLISH
X-ORIGINAL-URL:https://akad.gov.al
X-WR-CALDESC:Events for Akad
REFRESH-INTERVAL;VALUE=DURATION:PT1H
X-Robots-Tag:noindex
X-PUBLISHED-TTL:PT1H
BEGIN:VTIMEZONE
TZID:UTC
BEGIN:STANDARD
TZOFFSETFROM:+0000
TZOFFSETTO:+0000
TZNAME:UTC
DTSTART:20230101T000000
END:STANDARD
END:VTIMEZONE
BEGIN:VEVENT
DTSTART;TZID=UTC:20250221T110000
DTEND;TZID=UTC:20250221T110000
DTSTAMP:20260422T031748
CREATED:20250304T114336Z
LAST-MODIFIED:20250304T114428Z
UID:19896-1740135600-1740135600@akad.gov.al
SUMMARY:Koncert - kumtesë: "Kompozitorët e Alzasë - Lorenës në shekujt XIX-XX"
DESCRIPTION:Komisioni i përhershëm i arteve\, pranë ASHSH\, në bashkëpunim me shoqatën ” Musique Lorraine” Epinal – Francë\, organizojnë\, më 21 shkurt 2025\, koncertin-kumtesë “Kompozitorët e Alzasë – Lorenës në shekujt XIX-XX”. \nBashkëlidhur ftesa dhe programi.\nMirë se të vini!\nwww.akad.gov.al
URL:https://akad.gov.al/event/koncert-kumtese-kompozitoret-e-alzase-lorenes-ne-shekujt-xix-xx/
LOCATION:Akademia e Shkencave e Shqipëris\, Albania
CATEGORIES:Aktivitete
ATTACH;FMTTYPE=image/jpeg:https://akad.gov.al/wp-content/uploads/2025/03/1-3.jpg
END:VEVENT
BEGIN:VEVENT
DTSTART;TZID=UTC:20241213T093000
DTEND;TZID=UTC:20241217T160000
DTSTAMP:20260422T031748
CREATED:20241211T144823Z
LAST-MODIFIED:20241211T144823Z
UID:19275-1734082200-1734451200@akad.gov.al
SUMMARY:Poliedriciteti i prof. Jup Kastratit dhe mbarëkombëtaria në studimet e tij
DESCRIPTION:Poliedriciteti i prof. Jup Kastratit dhe mbarëkombëtaria në studimet e tij\n\n\n– Konferencë shkencore/përkujtimore me rastin e 100-vjetorit të lindjes-\n\n\n– Kjo veprimtari do të zhvillohet më datë 13 dhjetor 2024\, ora 09:30\, në sallën “Aleks Buda” të Akademisë së Shkencave\n\n\n\n\n\nNë këtë konferencë do të marrin pjesë personalitete të njohura që përmes kumtesave të tyre do të nderojnë figurën e albanologut të shquar\, prof. dr. Jup Kastrati.\n\n\nAi ka dhënë një kontribut të vyer në fushën e historisë së albanologjisë\, si dhe në botimet dhe monografitë e figurave të shquara të letrave shqipe\, duke u renditur ndër studiuesit më të njohur në këtë fushë\, brenda dhe jashtë vendit.\n\n\nPër më tepër shih programin:\nProrami i konferencës
URL:https://akad.gov.al/event/poliedriciteti-i-prof-jup-kastratit-dhe-mbarekombetaria-ne-studimet-e-tij/
LOCATION:Tirane\, Torre Drin\, TIRANE\, Albania
CATEGORIES:Aktivitete
ATTACH;FMTTYPE=image/png:https://akad.gov.al/wp-content/uploads/2024/12/Ftese-1.png
END:VEVENT
BEGIN:VEVENT
DTSTART;TZID=UTC:20241113T080000
DTEND;TZID=UTC:20241117T200000
DTSTAMP:20260422T031748
CREATED:20241112T175721Z
LAST-MODIFIED:20241112T175721Z
UID:19054-1731484800-1731873600@akad.gov.al
SUMMARY:Panairi i 27-të i librit\, 13-17 nëntor 2024\, Pallati i Kongreseve\, Tiranë
DESCRIPTION:Në kuadër të Panairit të 27-të të librit që do të mbahet në datat 13-17 nëntor 2024 në Pallatin e Kongreseve në Tiranë\, Akademia e Shkencave e Shqipërisë do të promovojë botimet e saj sipas kalendarit bashkëngjitur. \nProgrami i panairit
URL:https://akad.gov.al/event/panairi-i-27-te-i-librit-13-17-nentor-2024-pallati-i-kongreseve-tirane/
LOCATION:Tirane\, Torre Drin\, TIRANE\, Albania
CATEGORIES:Aktivitete
ATTACH;FMTTYPE=image/jpeg:https://akad.gov.al/wp-content/uploads/2024/10/462840059_17957403596831816_8142979971727127721_n.jpg
END:VEVENT
BEGIN:VEVENT
DTSTART;TZID=UTC:20241028T080000
DTEND;TZID=UTC:20241101T170000
DTSTAMP:20260422T031748
CREATED:20241015T115654Z
LAST-MODIFIED:20241015T115654Z
UID:18813-1730102400-1730480400@akad.gov.al
SUMMARY:Edicioni i katërt i konferencës shkencore “NanoBalkan2024” vjen në datat 28 tetor-1 nëntor
DESCRIPTION:Konferenca “NanoBalkan2024” synon të shfaqë një gamë të gjerë kërkimesh aktuale në nanoshkencë dhe nanoteknologji së bashku me iniciativa të rëndësishme politikash kërkimore.\n\n\nPër të katërtin vit radhazi në Shqipëri\, “NanoBalkan: do të ofrojë një platformë për ndërveprim të gjerë dhe shkëmbim njohurish!\n\n\nPërveç konferencës kryesore rreth temave interesante në nanoshkencë dhe nanoteknologji\, gama e veprimtarive do të përfshijë nanomjekësinë\, shkollën për nanobiosensorët\, workshop-in mbi mjedisin dhe nanomjekësinë\, workshop-in “Gratë në nanoteknologji”\, seminar për sipërmarrësit\, etj.\n\n\n“NanoBalkan 2024” organizohet nga Fondacioni Phantom (Phantoms Foundation)\, Spanjë\, dhe nga Qendra Kërkimore NanoAlb me mbështetjen e Akademisë së Shkencave të Shqipërisë.\n\n\nBashkëdrejtues i kësaj konference është akad. Arben Merkoçi\, anëtar i Akademisë së Shkencave të Shqipërisë\, drejtues i NanoAlb\, profesor i ICREA-s në Institutin Katalan të Nanoshkencës dhe Nanoteknologjisë\, Barcelonë\, Spanjë.\n\n\nBashkëlidhur linku:\nhttps://www.facebook.com/share/p/nEM4cD4rmfNoa3cz/
URL:https://akad.gov.al/event/edicioni-i-katert-i-konferences-shkencore-nanobalkan2024-vjen-ne-datat-28-tetor-1-nentor/
CATEGORIES:Aktivitete
ATTACH;FMTTYPE=image/jpeg:https://akad.gov.al/wp-content/uploads/2024/10/462840059_17957403596831816_8142979971727127721_n.jpg
END:VEVENT
BEGIN:VEVENT
DTSTART;TZID=UTC:20241015T090000
DTEND;TZID=UTC:20241015T170000
DTSTAMP:20260422T031748
CREATED:20241014T124358Z
LAST-MODIFIED:20241014T125047Z
UID:18797-1728982800-1729011600@akad.gov.al
SUMMARY:Akademia e Shkencave e Shqipërisë organizon simpoziumin “Ekonomia qarkulluese në ndërtim”
DESCRIPTION:Ditën e martë më 15 tetor 2024\, ora 9.00\, në Akademinë e Shkencave të Shqipërisë\, Seksioni i Shkencave Natyrore dhe Teknike pranë kësaj akademie në bashkëpunim me Institutin e Ndërtimit organizojnë simpoziumin “Ekonomia qarkulluese në ndërtim”.\n\n\nVeprimtaria do të mbahet në sallën “Aleks Buda” në Akademinë e Shkencave të Shqipërisë\, në bashkëpunim me institutin e ndërtimit\, Universiteti i Tiranës\, fakultetin e shkencave të natyrës\, UT\, dhe me Agjencinë Kombëtare të Mjedisit.\n\n\nEkonomia qarkulluese në ndërtim është një qasje inovative që synon të reduktojë ndikimin negativ mjedisor të industrisë së ndërtimit. Kjo qasje fokusohet në përdorimin e qëndrueshëm të burimeve\, duke maksimizuar përdorimin e materialeve të ricikluara dhe të ripërdorshme.\n\n\nGrupi organizues/shkencor:\n\n\nAkad. Dhimitër Haxhimihali\, AShSh;\nAkad. asoc. Besnik Baraj\, AShSh;\nProf. dr. Spiro Drushku\, dekan FShN\, UT;\nArtan Shkreli\, arkitekt\, drejtor\, Instituti i Ndërtimit;\nBlerina Gjini\, nëndrejtore\, Instituti i Ndërtimit\,\nProf.dr. Neritan Shkodrani\, dekan\, Fakulteti i Ndërtimit\, UT;\nArta Dollani\, drejtore\, Agjencia Kombëtare e Mjedisit.
URL:https://akad.gov.al/event/akademia-e-shkencave-e-shqiperise-organizon-simpoziumin-ekonomia-qarkulluese-ne-ndertim/
CATEGORIES:Aktivitete
ATTACH;FMTTYPE=image/jpeg:https://akad.gov.al/wp-content/uploads/2024/10/463118038_122168338982121739_6440783991029128757_n.jpg
END:VEVENT
BEGIN:VEVENT
DTSTART;TZID=UTC:20240423T080000
DTEND;TZID=UTC:20240425T170000
DTSTAMP:20260422T031748
CREATED:20240312T122956Z
LAST-MODIFIED:20240328T120939Z
UID:13829-1713859200-1714064400@akad.gov.al
SUMMARY:Panairi mbarëkombëtar i botimeve akademike e shkencore
DESCRIPTION:Panairi mbarëkombëtar i librit akademik dhe shkencor\, si nismë e përbashkët e Akademisë së Shkencave të Shqipërisë dhe Akademisë së Shkencave dhe Arteve të Kosovës ka këtë vit edicionin e tij të tretë. Dy edicionet e mëhershme (i pari në Tiranë në vitin 2022 dhe i dyti në Prishtinë në vitin 2023)\, provuan se kjo nismë është në shërbim të promovimit të botimeve akademike dhe shkencore dhe lehtësimit të rrugës së vështirë të librit akademik dhe shkencor për të mbërritur te lexuesi. \nPanairi zhvillohet në datat 23-25 prill 2024 dhe synon që të bëjë të njohura arritjet më cilësore në botimet akademike\, shkencore dhe universitare në të gjithë hapësirën shqiptare. Si i tillë\, panairi synon një prani përfaqësuese sa më të gjerë\, duke bërë bashkë autorët\, botimet\, institucionet e kërkimit dhe IAL-të që merren me librin akademik e shkencor dhe lexuesin e tyre. \nSi promovues dhe manifestues\, panairi ofron pjesëmarrje të hapur\, duke mundësuar pranëvendosje në sasi dhe cilësi të botimeve shkencore dhe të autorëve të tyre nga gjithë hapësira shqiptare.
URL:https://akad.gov.al/event/panairi-mbarekombetare-i-botimeve-akademike-e-shkecore/
CATEGORIES:Aktivitete
ATTACH;FMTTYPE=image/jpeg:https://akad.gov.al/wp-content/uploads/2024/03/WhatsApp-Image-2024-03-05-at-15.50.13-1.jpeg
END:VEVENT
END:VCALENDAR